0.00000876226070316
0.00000000000000000
0.00000000000000000
-0.00000876226070316
70.42461546675603800
34.44786771673376100
